BEGIN:VCALENDAR
VERSION:2.0
PRODID:-//The Speedway - ECPv6.15.20//NONSGML v1.0//EN
CALSCALE:GREGORIAN
METHOD:PUBLISH
X-WR-CALNAME:The Speedway
X-ORIGINAL-URL:https://charlesriverspeedway.com
X-WR-CALDESC:Events for The Speedway
REFRESH-INTERVAL;VALUE=DURATION:PT1H
X-Robots-Tag:noindex
X-PUBLISHED-TTL:PT1H
BEGIN:VTIMEZONE
TZID:America/New_York
BEGIN:DAYLIGHT
TZOFFSETFROM:-0500
TZOFFSETTO:-0400
TZNAME:EDT
DTSTART:20240310T070000
END:DAYLIGHT
BEGIN:STANDARD
TZOFFSETFROM:-0400
TZOFFSETTO:-0500
TZNAME:EST
DTSTART:20241103T060000
END:STANDARD
BEGIN:DAYLIGHT
TZOFFSETFROM:-0500
TZOFFSETTO:-0400
TZNAME:EDT
DTSTART:20250309T070000
END:DAYLIGHT
BEGIN:STANDARD
TZOFFSETFROM:-0400
TZOFFSETTO:-0500
TZNAME:EST
DTSTART:20251102T060000
END:STANDARD
BEGIN:DAYLIGHT
TZOFFSETFROM:-0500
TZOFFSETTO:-0400
TZNAME:EDT
DTSTART:20260308T070000
END:DAYLIGHT
BEGIN:STANDARD
TZOFFSETFROM:-0400
TZOFFSETTO:-0500
TZNAME:EST
DTSTART:20261101T060000
END:STANDARD
END:VTIMEZONE
BEGIN:VEVENT
DTSTART;TZID=America/New_York:20250119T110000
DTEND;TZID=America/New_York:20250119T180000
DTSTAMP:20260419T085354
CREATED:20250114T182049Z
LAST-MODIFIED:20250114T182049Z
UID:10000831-1737284400-1737309600@charlesriverspeedway.com
SUMMARY:Brighton Bazaar: Winter Weekend
DESCRIPTION:On Saturday & Sunday January 18 – 19 from 11am – 6pm\, over 50 small local businesses will pop up at The Charles River Speedway to sell art\, vinyl\, vintage\, & more! \n********* \nFeatures: \n🌿 Experience Room: @bird_bag_ is hosting a make-your-own cyanotype workshop\, with all materials provided. Learn a fascinating photographic printing process from the 1800s! \n☕ 🛍️❄️ Seasonal sip ‘n shop hot beverages by @super.bien_ & @rite.bos . Carry sweet\, snuggly\, spiced goodness around while you browse! \n🖼️ Poster by @bug.juice.ink : find their booth at the market\, or more work at the link in their bio \n🎶 DJ: The dynamic duo of @wileylovescats & @jessamy.shay will spin the weekend away! You may know them from the monthly Space Exotica Lounge Night on first Thursdays at @verasunionsq \, an absolutely can’t-miss party of groovy vintage vibes!
URL:https://charlesriverspeedway.com/event/brighton-bazaar-winter-weekend-2/
LOCATION:Charles River Speedway\, 525 Western Ave\, Brighton\, MA\, 02135
CATEGORIES:Vendor Market
END:VEVENT
END:VCALENDAR