BEGIN:VCALENDAR
VERSION:2.0
PRODID:-//The Speedway - ECPv6.15.20//NONSGML v1.0//EN
CALSCALE:GREGORIAN
METHOD:PUBLISH
X-WR-CALNAME:The Speedway
X-ORIGINAL-URL:https://charlesriverspeedway.com
X-WR-CALDESC:Events for The Speedway
REFRESH-INTERVAL;VALUE=DURATION:PT1H
X-Robots-Tag:noindex
X-PUBLISHED-TTL:PT1H
BEGIN:VTIMEZONE
TZID:UTC
BEGIN:STANDARD
TZOFFSETFROM:+0000
TZOFFSETTO:+0000
TZNAME:UTC
DTSTART:20230101T000000
END:STANDARD
END:VTIMEZONE
BEGIN:VEVENT
DTSTART;TZID=UTC:20240310T110000
DTEND;TZID=UTC:20240310T150000
DTSTAMP:20260421T171631
CREATED:20240308T221416Z
LAST-MODIFIED:20240308T221416Z
UID:10000315-1710068400-1710082800@charlesriverspeedway.com
SUMMARY:Brunch With Friends! ft. Nine Winters Bakery at Super Bien
DESCRIPTION:BRUNCH WITH FRIENDS! We’re melding Nine Winters’ Korean-American vibes + Buenas’ Argentinian-American vibes—for themed Brunch! \n  \nRSVP and let us know your coming: RSVP HERE
URL:https://charlesriverspeedway.com/event/brunch-with-friends-ft-nine-winters-bakery-at-super-bien/
LOCATION:Super Bien\, 525 Western Ave\, Brighton
END:VEVENT
BEGIN:VEVENT
DTSTART;TZID=UTC:20240309T120000
DTEND;TZID=UTC:20240309T170000
DTSTAMP:20260421T171631
CREATED:20240304T194632Z
LAST-MODIFIED:20240304T194632Z
UID:10000003-1709985600-1710003600@charlesriverspeedway.com
SUMMARY:Notch Brewing Starkbierfest
DESCRIPTION:Every March in Munich\, Starkbierfest (Strong Beer Fest) is celebrated with Bockbier\, and Notch falls right in line with our own winter festival. Seasonal bock bier\, Bavarian fare\, and the Tuba Frau Hofbräu Band will set the tone for this much anticipated annual event. But what everyone really wants is a HOT POKE! As is tradition\, a super heated steel rod is submerged in your bock bier to create a marshmallow type foam\, but the beer stays cold. A perfect and entirely different cold weather treat. \nBEER RELEASES: \nLoggerhead Doppelbock – 8.2% ABV\nHelles Bock – 6.7%\nRauch Helles Spezial – 5.5% \nADMISSION: \nFree Admission includes live entertainment and a whole bunch of Gemütlichkeit.
URL:https://charlesriverspeedway.com/event/notch-brewing-starkbierfest/
LOCATION:Notch Brewing\, 525 Western Ave\, Brighton\, MA\, 02135
END:VEVENT
BEGIN:VEVENT
DTSTART;TZID=UTC:20240307T080000
DTEND;TZID=UTC:20240307T170000
DTSTAMP:20260421T171631
CREATED:20240305T034929Z
LAST-MODIFIED:20240305T034929Z
UID:10000267-1709798400-1709830800@charlesriverspeedway.com
SUMMARY:Meters For Liters: Notch Run Club
DESCRIPTION:Earn Notch swag when you complete 10 runs… \nMeters for Liters is a weekly 5k run from the brewery. This is not a race\, just a chance to get out and earn some cold beer. When we get back to the brewery\, there will be plenty of beer and free pretzels for runners! \nNo sign up is required but you do have the option to “sign in” before the run. Meet at the Tap Room between 6:30pm and 7! \nRoute maps and singlets:\nhttps://www.notchbrewing.com/meters-for-liters \nIf you use Strava\, join the club here: https://www.strava.com/clubs/notch \nWe also have a Facebook group open to all:\nhttps://www.facebook.com/groups/372500192904265/
URL:https://charlesriverspeedway.com/event/meters-for-liters-notch-run-club/
LOCATION:Notch Brewing\, 525 Western Ave\, Brighton\, MA\, 02135
CATEGORIES:Fitness
END:VEVENT
BEGIN:VEVENT
DTSTART;TZID=UTC:20240305T190000
DTEND;TZID=UTC:20240305T220000
DTSTAMP:20260421T171631
CREATED:20240305T034450Z
LAST-MODIFIED:20240305T034450Z
UID:10000006-1709665200-1709676000@charlesriverspeedway.com
SUMMARY:Notch Brewing: Live Music Tuesdays
DESCRIPTION:Join us at Notch Brighton every Tuesday night for live music in the tap room. \nCheck Notch Brewing Instagram or Notch Brewing Event Calendar for specific bands each week. \n21+ ~ Free\nNotch Brewing Brighton\n525 Western Ave\, Brighton MA\nNon-perishable food donations accepted at the door.
URL:https://charlesriverspeedway.com/event/notch-brewing-live-music-tuesdays/2024-03-05/
LOCATION:Notch Brewing\, 525 Western Ave\, Brighton\, MA\, 02135
END:VEVENT
BEGIN:VEVENT
DTSTART;TZID=UTC:20240211T110000
DTEND;TZID=UTC:20240211T170000
DTSTAMP:20260421T171631
CREATED:20240226T203514Z
LAST-MODIFIED:20240304T195125Z
UID:10000001-1707649200-1707670800@charlesriverspeedway.com
SUMMARY:RETRO-MINI-A 2024: A TASTE OF RETROMANIA
DESCRIPTION:Introducing Retro-mini-a 2024: a Taste of Retromania!\n\nThis is an event organized by our friends at Brighton Bazaar– a first ever promotional companion event for Retromania: A Retrospective Expo\, featuring free admission and a smaller group of 50 vendors who aren’t participating in the main event.\n\nCustomers can expect a similar but smaller mix of vintage styles\, collectible classics\, and nostalgic goods!\n\nMore info about Retromania: HTTPS://FB.ME/E/1X5SEZ9GE
URL:https://charlesriverspeedway.com/event/retro-mini-a-2024-a-taste-of-retromania/
LOCATION:GARAGE B + THE ANNEX\, 1420 Soldiers Field Rd\, Boston\, MA\, 02135\, United States
ATTACH;FMTTYPE=image/webp:https://charlesriverspeedway.com/wp-content/uploads/2024/02/bazaar-poster-2-11-24-Retro-mini-a-square.webp
END:VEVENT
END:VCALENDAR